BEGIN:VCALENDAR
VERSION:2.0
PRODID:-//time.now/holidays//NONSGML v1.0//EN
BEGIN:VEVENT
UID:51e4a40e-0311-45ba-af45-23f47a0e9b3e
DTSTAMP:20260419T153039Z
DTSTART;VALUE=DATE:20261208
SUMMARY:Immaculate Conception (Perú)
END:VEVENT
END:VCALENDAR