BEGIN:VCALENDAR
VERSION:2.0
PRODID:-//time.now/holidays//NONSGML v1.0//EN
BEGIN:VEVENT
UID:f56674e8-7fec-4c01-bd7c-8e5b2800f02d
DTSTAMP:20260420T075900Z
DTSTART;VALUE=DATE:20261225
SUMMARY:Christmas Day (Perú)
END:VEVENT
END:VCALENDAR