BEGIN:VCALENDAR
VERSION:2.0
PRODID:-//time.now/holidays//NONSGML v1.0//EN
BEGIN:VEVENT
UID:24735eb5-aa24-4371-b0b4-3c3202de33e2
DTSTAMP:20260420T210138Z
DTSTART;VALUE=DATE:20260514
SUMMARY:National Holiday (Paraguay)
END:VEVENT
END:VCALENDAR