BEGIN:VCALENDAR
VERSION:2.0
PRODID:-//time.now/holidays//NONSGML v1.0//EN
BEGIN:VEVENT
UID:8c8b3967-13ce-4e72-820e-755af2821437
DTSTAMP:20260422T085822Z
DTSTART;VALUE=DATE:20220613
SUMMARY:Queen's Birthday (Papua New Guinea)
END:VEVENT
END:VCALENDAR