BEGIN:VCALENDAR
VERSION:2.0
PRODID:-//time.now/holidays//NONSGML v1.0//EN
BEGIN:VEVENT
UID:118d662e-aa02-4a7f-8b02-74712669d6b4
DTSTAMP:20260422T105329Z
DTSTART;VALUE=DATE:20340102
SUMMARY:New Year's Day (observed) (Papua New Guinea)
END:VEVENT
END:VCALENDAR