BEGIN:VCALENDAR
VERSION:2.0
PRODID:-//time.now/holidays//NONSGML v1.0//EN
BEGIN:VEVENT
UID:6af6168d-5ae3-4d4b-8613-9015a3a1ffed
DTSTAMP:20260421T035631Z
DTSTART;VALUE=DATE:20230224
SUMMARY:Grand Chief Sir Michael Somare Remembrance Day (observed) (Papua New Guinea)
END:VEVENT
END:VCALENDAR