BEGIN:VCALENDAR
VERSION:2.0
PRODID:-//time.now/holidays//NONSGML v1.0//EN
BEGIN:VEVENT
UID:bf2d7dad-4b2a-4eb8-bd49-be70a28ae4b2
DTSTAMP:20260420T013756Z
DTSTART;VALUE=DATE:20301104
SUMMARY:Separation Day (observed) (Panamá)
END:VEVENT
END:VCALENDAR