BEGIN:VCALENDAR
VERSION:2.0
PRODID:-//time.now/holidays//NONSGML v1.0//EN
BEGIN:VEVENT
UID:32af2df4-59a4-4d46-a160-0adb5dc9025f
DTSTAMP:20260422T193207Z
DTSTART;VALUE=DATE:20240701
SUMMARY:Presidential Inauguration Day (Panamá)
END:VEVENT
END:VCALENDAR