BEGIN:VCALENDAR
VERSION:2.0
PRODID:-//time.now/holidays//NONSGML v1.0//EN
BEGIN:VEVENT
UID:003047a4-55ba-488f-a402-689c676a1f28
DTSTAMP:20260420T203505Z
DTSTART;VALUE=DATE:20261221
SUMMARY:National Mourning Day (observed) (Panamá)
END:VEVENT
END:VCALENDAR