BEGIN:VCALENDAR
VERSION:2.0
PRODID:-//time.now/holidays//NONSGML v1.0//EN
BEGIN:VEVENT
UID:e773c489-76a0-41db-9cae-8e510269d87c
DTSTAMP:20260420T171041Z
DTSTART;VALUE=DATE:20261208
SUMMARY:Mother's Day (Panamá)
END:VEVENT
END:VCALENDAR