BEGIN:VCALENDAR
VERSION:2.0
PRODID:-//time.now/holidays//NONSGML v1.0//EN
BEGIN:VEVENT
UID:3cac8e73-358e-4b84-b31c-683d2d08d45e
DTSTAMP:20260422T085421Z
DTSTART;VALUE=DATE:20301111
SUMMARY:Los Santos Uprising Day (observed) (Panamá)
END:VEVENT
END:VCALENDAR