BEGIN:VCALENDAR
VERSION:2.0
PRODID:-//time.now/holidays//NONSGML v1.0//EN
BEGIN:VEVENT
UID:7fb2d8e6-ee1b-4324-aea4-298b930a8c89
DTSTAMP:20260420T021848Z
DTSTART;VALUE=DATE:20260403
SUMMARY:Good Friday (Panamá)
END:VEVENT
END:VCALENDAR