BEGIN:VCALENDAR
VERSION:2.0
PRODID:-//time.now/holidays//NONSGML v1.0//EN
BEGIN:VEVENT
UID:86061f50-527d-4b5a-80d6-9e6284babb86
DTSTAMP:20260420T093335Z
DTSTART;VALUE=DATE:20281106
SUMMARY:Colon Day (observed) (Panamá)
END:VEVENT
END:VCALENDAR