BEGIN:VCALENDAR
VERSION:2.0
PRODID:-//time.now/holidays//NONSGML v1.0//EN
BEGIN:VEVENT
UID:9f0be23d-fc83-48a7-8b4b-b01998e233de
DTSTAMP:20260420T164011Z
DTSTART;VALUE=DATE:20260315
SUMMARY:Youth Day (Palaos)
END:VEVENT
END:VCALENDAR