BEGIN:VCALENDAR
VERSION:2.0
PRODID:-//time.now/holidays//NONSGML v1.0//EN
BEGIN:VEVENT
UID:f06ecc34-9dd6-4868-804c-f0f2e31cbdeb
DTSTAMP:20260420T155647Z
DTSTART;VALUE=DATE:20261126
SUMMARY:Thanksgiving Day (Palaos)
END:VEVENT
END:VCALENDAR