BEGIN:VCALENDAR
VERSION:2.0
PRODID:-//time.now/holidays//NONSGML v1.0//EN
BEGIN:VEVENT
UID:53616373-1715-4fee-830c-53f84f2db23b
DTSTAMP:20260420T205007Z
DTSTART;VALUE=DATE:20290504
SUMMARY:Senior Citizens Day (observed) (Palaos)
END:VEVENT
END:VCALENDAR