BEGIN:VCALENDAR
VERSION:2.0
PRODID:-//time.now/holidays//NONSGML v1.0//EN
BEGIN:VEVENT
UID:289d01f0-5d55-4aab-a445-43b84ff8263a
DTSTAMP:20260420T050000Z
DTSTART;VALUE=DATE:20260907
SUMMARY:Labor Day (Palaos)
END:VEVENT
END:VCALENDAR