BEGIN:VCALENDAR
VERSION:2.0
PRODID:-//time.now/holidays//NONSGML v1.0//EN
BEGIN:VEVENT
UID:0f07126b-4c34-4de8-a424-9f408fdf4149
DTSTAMP:20260420T031921Z
DTSTART;VALUE=DATE:20280710
SUMMARY:Constitution Day (observed) (Palaos)
END:VEVENT
END:VCALENDAR