BEGIN:VCALENDAR
VERSION:2.0
PRODID:-//time.now/holidays//NONSGML v1.0//EN
BEGIN:VEVENT
UID:b4dd3c29-3208-4e4c-9634-29b1042c2a33
DTSTAMP:20260420T182343Z
DTSTART;VALUE=DATE:20271224
SUMMARY:Christmas Day (observed) (Palaos)
END:VEVENT
END:VCALENDAR