BEGIN:VCALENDAR
VERSION:2.0
PRODID:-//time.now/holidays//NONSGML v1.0//EN
BEGIN:VEVENT
UID:fdfd041c-75bf-4f0c-bc05-2049d14041b8
DTSTAMP:20260420T105400Z
DTSTART;VALUE=DATE:20270528
SUMMARY:Youm-e-Takbeer (Pakistán)
END:VEVENT
END:VCALENDAR