BEGIN:VCALENDAR
VERSION:2.0
PRODID:-//time.now/holidays//NONSGML v1.0//EN
BEGIN:VEVENT
UID:4f6499b1-f061-46ba-b4d2-3e091e54474b
DTSTAMP:20260420T185818Z
DTSTART;VALUE=DATE:20261225
SUMMARY:Quaid-e-Azam Day (Pakistán)
END:VEVENT
END:VCALENDAR