BEGIN:VCALENDAR
VERSION:2.0
PRODID:-//time.now/holidays//NONSGML v1.0//EN
BEGIN:VEVENT
UID:dde25aff-8acd-4617-9f28-6f2c6a824a93
DTSTAMP:20260420T204154Z
DTSTART;VALUE=DATE:20260323
SUMMARY:Pakistan Day (Pakistán)
END:VEVENT
END:VCALENDAR