BEGIN:VCALENDAR
VERSION:2.0
PRODID:-//time.now/holidays//NONSGML v1.0//EN
BEGIN:VEVENT
UID:803997a2-7ba3-4de5-9668-03bf2a1092ca
DTSTAMP:20260420T165311Z
DTSTART;VALUE=DATE:20260501
SUMMARY:Labor Day (Pakistán)
END:VEVENT
END:VCALENDAR