BEGIN:VCALENDAR
VERSION:2.0
PRODID:-//time.now/holidays//NONSGML v1.0//EN
BEGIN:VEVENT
UID:0e912bcf-891b-4940-bf17-78e3211316de
DTSTAMP:20260420T123839Z
DTSTART;VALUE=DATE:20260814
SUMMARY:Independence Day (Pakistán)
END:VEVENT
END:VCALENDAR