BEGIN:VCALENDAR
VERSION:2.0
PRODID:-//time.now/holidays//NONSGML v1.0//EN
BEGIN:VEVENT
UID:9021890d-a69f-49cc-a990-150010afea7e
DTSTAMP:20260422T091910Z
DTSTART;VALUE=DATE:20270814
SUMMARY:Independence Day; Prophet's Birthday (estimated) (Pakistán)
END:VEVENT
END:VCALENDAR