BEGIN:VCALENDAR
VERSION:2.0
PRODID:-//time.now/holidays//NONSGML v1.0//EN
BEGIN:VEVENT
UID:45336011-853c-4df5-9086-9287d6fb8af9
DTSTAMP:20260422T092238Z
DTSTART;VALUE=DATE:20260528
SUMMARY:Eid al-Adha (estimated); Youm-e-Takbeer (Pakistán)
END:VEVENT
END:VCALENDAR