BEGIN:VCALENDAR
VERSION:2.0
PRODID:-//time.now/holidays//NONSGML v1.0//EN
BEGIN:VEVENT
UID:87d00677-23d9-4bf0-ac30-9bc07508beab
DTSTAMP:20260420T200445Z
DTSTART;VALUE=DATE:20260624
SUMMARY:Ashura (estimated) (Pakistán)
END:VEVENT
END:VCALENDAR