BEGIN:VCALENDAR
VERSION:2.0
PRODID:-//time.now/holidays//NONSGML v1.0//EN
BEGIN:VEVENT
UID:66d7a4e8-9825-48ca-8d26-29d2554fc168
DTSTAMP:20260420T054537Z
DTSTART;VALUE=DATE:20240707
SUMMARY:Islamic New Year (Omán)
END:VEVENT
END:VCALENDAR