BEGIN:VCALENDAR
VERSION:2.0
PRODID:-//time.now/holidays//NONSGML v1.0//EN
BEGIN:VEVENT
UID:ce23e9d7-0458-4fd5-8990-8612efd21975
DTSTAMP:20260422T161919Z
DTSTART;VALUE=DATE:20260320
SUMMARY:Eid al-Fitr (estimated) (Omán)
END:VEVENT
END:VCALENDAR