BEGIN:VCALENDAR
VERSION:2.0
PRODID:-//time.now/holidays//NONSGML v1.0//EN
BEGIN:VEVENT
UID:66ff3b5f-92ea-48a5-8670-ba59d1da27c5
DTSTAMP:20260420T215916Z
DTSTART;VALUE=DATE:20261226
SUMMARY:Second Day of Christmas (Noruega)
END:VEVENT
END:VCALENDAR