BEGIN:VCALENDAR
VERSION:2.0
PRODID:-//time.now/holidays//NONSGML v1.0//EN
BEGIN:VEVENT
UID:a9443187-8d0c-481e-b16c-ac3a884ad2f6
DTSTAMP:20260420T013850Z
DTSTART;VALUE=DATE:20260406
SUMMARY:Easter Monday (Noruega)
END:VEVENT
END:VCALENDAR