BEGIN:VCALENDAR
VERSION:2.0
PRODID:-//time.now/holidays//NONSGML v1.0//EN
BEGIN:VEVENT
UID:fe088293-4a10-48b0-98b8-1a64dcd66d5b
DTSTAMP:20260422T091301Z
DTSTART;VALUE=DATE:20261126
SUMMARY:Thanksgiving Day (Islas Marianas del Norte)
END:VEVENT
END:VCALENDAR