BEGIN:VCALENDAR
VERSION:2.0
PRODID:-//time.now/holidays//NONSGML v1.0//EN
BEGIN:VEVENT
UID:b06cd955-fd44-4107-8221-22aae94c4967
DTSTAMP:20260422T174406Z
DTSTART;VALUE=DATE:20260619
SUMMARY:Juneteenth National Independence Day (Islas Marianas del Norte)
END:VEVENT
END:VCALENDAR