BEGIN:VCALENDAR
VERSION:2.0
PRODID:-//time.now/holidays//NONSGML v1.0//EN
BEGIN:VEVENT
UID:10e28fa2-c6ee-46e8-afc8-9839752fbf5e
DTSTAMP:20260421T005752Z
DTSTART;VALUE=DATE:20270618
SUMMARY:Juneteenth National Independence Day (observed) (Islas Marianas del Norte)
END:VEVENT
END:VCALENDAR