BEGIN:VCALENDAR
VERSION:2.0
PRODID:-//time.now/holidays//NONSGML v1.0//EN
BEGIN:VEVENT
UID:b9ae53a3-360a-4436-bab4-788cb0571e2b
DTSTAMP:20260422T115420Z
DTSTART;VALUE=DATE:20260704
SUMMARY:Independence Day (Islas Marianas del Norte)
END:VEVENT
END:VCALENDAR