BEGIN:VCALENDAR
VERSION:2.0
PRODID:-//time.now/holidays//NONSGML v1.0//EN
BEGIN:VEVENT
UID:e35c41c4-bacf-4650-a529-951cd92fe66d
DTSTAMP:20260422T085939Z
DTSTART;VALUE=DATE:20261103
SUMMARY:Election Day (Islas Marianas del Norte)
END:VEVENT
END:VCALENDAR