BEGIN:VCALENDAR
VERSION:2.0
PRODID:-//time.now/holidays//NONSGML v1.0//EN
BEGIN:VEVENT
UID:be75c048-092c-402b-a4f8-d429b8189953
DTSTAMP:20260423T030309Z
DTSTART;VALUE=DATE:20291207
SUMMARY:Constitution Day (observed) (Islas Marianas del Norte)
END:VEVENT
END:VCALENDAR