BEGIN:VCALENDAR
VERSION:2.0
PRODID:-//time.now/holidays//NONSGML v1.0//EN
BEGIN:VEVENT
UID:891cc2c0-ba5e-4be0-afc9-ebbec4c2ec3b
DTSTAMP:20260422T090417Z
DTSTART;VALUE=DATE:20261104
SUMMARY:Citizenship Day (Islas Marianas del Norte)
END:VEVENT
END:VCALENDAR