BEGIN:VCALENDAR
VERSION:2.0
PRODID:-//time.now/holidays//NONSGML v1.0//EN
BEGIN:VEVENT
UID:351da760-f659-4830-8e1b-ccf9eabff84a
DTSTAMP:20260422T091219Z
DTSTART;VALUE=DATE:20261225
SUMMARY:Christmas Day (Islas Marianas del Norte)
END:VEVENT
END:VCALENDAR