BEGIN:VCALENDAR
VERSION:2.0
PRODID:-//time.now/holidays//NONSGML v1.0//EN
BEGIN:VEVENT
UID:45cd5084-aa7b-4723-9631-e4778a018f4d
DTSTAMP:20260422T103915Z
DTSTART;VALUE=DATE:20301209
SUMMARY:Saint Clement of Ohrid Day (observed) (Macedonia del Norte)
END:VEVENT
END:VCALENDAR