BEGIN:VCALENDAR
VERSION:2.0
PRODID:-//time.now/holidays//NONSGML v1.0//EN
BEGIN:VEVENT
UID:0091197c-6e10-4d73-bc87-4f5b3a383b0a
DTSTAMP:20260420T174012Z
DTSTART;VALUE=DATE:20260802
SUMMARY:Republic Day (Macedonia del Norte)
END:VEVENT
END:VCALENDAR