BEGIN:VCALENDAR
VERSION:2.0
PRODID:-//time.now/holidays//NONSGML v1.0//EN
BEGIN:VEVENT
UID:5b881bfa-e708-4b99-9071-6a1cc0f0017e
DTSTAMP:20260422T150249Z
DTSTART;VALUE=DATE:20340102
SUMMARY:New Year's Day (observed) (Macedonia del Norte)
END:VEVENT
END:VCALENDAR