BEGIN:VCALENDAR
VERSION:2.0
PRODID:-//time.now/holidays//NONSGML v1.0//EN
BEGIN:VEVENT
UID:512c32ed-959a-4d0f-9d9b-b8c06092fff9
DTSTAMP:20260420T153929Z
DTSTART;VALUE=DATE:20260908
SUMMARY:Independence Day (Macedonia del Norte)
END:VEVENT
END:VCALENDAR