BEGIN:VCALENDAR
VERSION:2.0
PRODID:-//time.now/holidays//NONSGML v1.0//EN
BEGIN:VEVENT
UID:68f52e83-9fb7-45db-abc2-b7a61b033cda
DTSTAMP:20260423T014316Z
DTSTART;VALUE=DATE:20260320
SUMMARY:Eid al-Fitr (estimated) (Macedonia del Norte)
END:VEVENT
END:VCALENDAR