BEGIN:VCALENDAR
VERSION:2.0
PRODID:-//time.now/holidays//NONSGML v1.0//EN
BEGIN:VEVENT
UID:42784ab2-cc1e-4158-a4d9-7c7d702517c2
DTSTAMP:20260422T223711Z
DTSTART;VALUE=DATE:20290108
SUMMARY:Christmas Day (observed) (Macedonia del Norte)
END:VEVENT
END:VCALENDAR