BEGIN:VCALENDAR
VERSION:2.0
PRODID:-//time.now/holidays//NONSGML v1.0//EN
BEGIN:VEVENT
UID:5b7a5e48-d01d-42fc-b291-2e7d66053bc4
DTSTAMP:20260420T061154Z
DTSTART;VALUE=DATE:20261001
SUMMARY:Independence Day (Nigeria)
END:VEVENT
END:VCALENDAR