BEGIN:VCALENDAR
VERSION:2.0
PRODID:-//time.now/holidays//NONSGML v1.0//EN
BEGIN:VEVENT
UID:f6ad348c-174a-4e3d-aee2-b4cd6303a911
DTSTAMP:20260422T085546Z
DTSTART;VALUE=DATE:20260528
SUMMARY:Eid-el-Kabir Holiday (estimated) (Nigeria)
END:VEVENT
END:VCALENDAR