BEGIN:VCALENDAR
VERSION:2.0
PRODID:-//time.now/holidays//NONSGML v1.0//EN
BEGIN:VEVENT
UID:3fcae44e-91aa-4e36-b616-d335aa808706
DTSTAMP:20260420T103226Z
DTSTART;VALUE=DATE:20260612
SUMMARY:Democracy Day (Nigeria)
END:VEVENT
END:VCALENDAR