BEGIN:VCALENDAR
VERSION:2.0
PRODID:-//time.now/holidays//NONSGML v1.0//EN
BEGIN:VEVENT
UID:17b726fd-ee1b-40d6-84c0-8ceabfad599c
DTSTAMP:20260420T044621Z
DTSTART;VALUE=DATE:20250627
SUMMARY:Islamic New Year (Níger)
END:VEVENT
END:VCALENDAR