BEGIN:VCALENDAR
VERSION:2.0
PRODID:-//time.now/holidays//NONSGML v1.0//EN
BEGIN:VEVENT
UID:4717cc43-8e06-42f0-b6c0-1ced184a4941
DTSTAMP:20260422T164631Z
DTSTART;VALUE=DATE:20220502
SUMMARY:Eid al-Fitr (observed); International Labor Day (observed) (Níger)
END:VEVENT
END:VCALENDAR